BEGIN:VCALENDAR
VERSION:2.0
PRODID:-//Coastal Encinitas Rotary Club - ECPv6.15.20//NONSGML v1.0//EN
CALSCALE:GREGORIAN
METHOD:PUBLISH
X-ORIGINAL-URL:https://coastalencinitasrotary.org
X-WR-CALDESC:Events for Coastal Encinitas Rotary Club
REFRESH-INTERVAL;VALUE=DURATION:PT1H
X-Robots-Tag:noindex
X-PUBLISHED-TTL:PT1H
BEGIN:VTIMEZONE
TZID:America/Los_Angeles
BEGIN:DAYLIGHT
TZOFFSETFROM:-0800
TZOFFSETTO:-0700
TZNAME:PDT
DTSTART:20250309T100000
END:DAYLIGHT
BEGIN:STANDARD
TZOFFSETFROM:-0700
TZOFFSETTO:-0800
TZNAME:PST
DTSTART:20251102T090000
END:STANDARD
BEGIN:DAYLIGHT
TZOFFSETFROM:-0800
TZOFFSETTO:-0700
TZNAME:PDT
DTSTART:20260308T100000
END:DAYLIGHT
BEGIN:STANDARD
TZOFFSETFROM:-0700
TZOFFSETTO:-0800
TZNAME:PST
DTSTART:20261101T090000
END:STANDARD
BEGIN:DAYLIGHT
TZOFFSETFROM:-0800
TZOFFSETTO:-0700
TZNAME:PDT
DTSTART:20270314T100000
END:DAYLIGHT
BEGIN:STANDARD
TZOFFSETFROM:-0700
TZOFFSETTO:-0800
TZNAME:PST
DTSTART:20271107T090000
END:STANDARD
END:VTIMEZONE
BEGIN:VEVENT
DTSTART;TZID=America/Los_Angeles:20260203T121500
DTEND;TZID=America/Los_Angeles:20260203T133000
DTSTAMP:20260424T144045
CREATED:20260121T181308Z
LAST-MODIFIED:20260121T181308Z
UID:10000529-1770120900-1770125400@coastalencinitasrotary.org
SUMMARY:Speaker:  Susan Algert
DESCRIPTION:What do we know about weight loss now?
URL:https://coastalencinitasrotary.org/event/speaker-susan-algert/
LOCATION:CA
CATEGORIES:Club Lunch Meetings
END:VEVENT
BEGIN:VEVENT
DTSTART;TZID=America/Los_Angeles:20260210T121500
DTEND;TZID=America/Los_Angeles:20260210T133000
DTSTAMP:20260424T144045
CREATED:20260121T181300Z
LAST-MODIFIED:20260121T181300Z
UID:10000530-1770725700-1770730200@coastalencinitasrotary.org
SUMMARY:Speaker: Encinitas Sheriff's Dept
DESCRIPTION:Crime in Encinitas
URL:https://coastalencinitasrotary.org/event/speaker-encinitas-sheriffs-dept/
LOCATION:CA
CATEGORIES:Club Lunch Meetings
END:VEVENT
BEGIN:VEVENT
DTSTART;TZID=America/Los_Angeles:20260212T173000
DTEND;TZID=America/Los_Angeles:20260212T190000
DTSTAMP:20260424T144045
CREATED:20250711T193414Z
LAST-MODIFIED:20250908T204156Z
UID:10000475-1770917400-1770922800@coastalencinitasrotary.org
SUMMARY:Board Meeting @Gretchen's Office
DESCRIPTION:
URL:https://coastalencinitasrotary.org/event/board-meeting-gretchens-office/2026-02-12/
LOCATION:CA
CATEGORIES:Board Meeting
ATTACH;FMTTYPE=image/png:https://coastalencinitasrotary.org/wp-content/uploads/2025/09/CER-Logo.png
END:VEVENT
BEGIN:VEVENT
DTSTART;VALUE=DATE:20260216
DTEND;VALUE=DATE:20260217
DTSTAMP:20260424T144045
CREATED:20240728T232107Z
LAST-MODIFIED:20240802T061855Z
UID:10000306-1771200000-1771286399@coastalencinitasrotary.org
SUMMARY:Presidents' Day
DESCRIPTION:
URL:https://coastalencinitasrotary.org/event/presidents-day/2026-02-16/
LOCATION:CA
CATEGORIES:Holiday
END:VEVENT
BEGIN:VEVENT
DTSTART;TZID=America/Los_Angeles:20260217T121500
DTEND;TZID=America/Los_Angeles:20260217T133000
DTSTAMP:20260424T144045
CREATED:20260121T181252Z
LAST-MODIFIED:20260121T181252Z
UID:10000531-1771330500-1771335000@coastalencinitasrotary.org
SUMMARY:Speaker: Joey Landwehr
DESCRIPTION:Broadway San Diego
URL:https://coastalencinitasrotary.org/event/speaker-joey-landwehr/
LOCATION:CA
CATEGORIES:Club Lunch Meetings
END:VEVENT
BEGIN:VEVENT
DTSTART;TZID=America/Los_Angeles:20260224T120000
DTEND;TZID=America/Los_Angeles:20260224T133000
DTSTAMP:20260424T144045
CREATED:20260109T223945Z
LAST-MODIFIED:20260109T223945Z
UID:10000527-1771934400-1771939800@coastalencinitasrotary.org
SUMMARY:International Auction
DESCRIPTION:
URL:https://coastalencinitasrotary.org/event/international-auction-2/
LOCATION:Cicciotti’s Trattoria Italiana & Seafood\, 1933 San Elijo Ave\, Cardiff\, CA\, 92007\, United States
CATEGORIES:Club Lunch Meetings
ATTACH;FMTTYPE=image/jpeg:https://coastalencinitasrotary.org/wp-content/uploads/2024/11/IMG_2588-scaled.jpg
END:VEVENT
BEGIN:VEVENT
DTSTART;TZID=America/Los_Angeles:20260228T170000
DTEND;TZID=America/Los_Angeles:20260228T210000
DTSTAMP:20260424T144045
CREATED:20260109T224114Z
LAST-MODIFIED:20260109T224114Z
UID:10000528-1772298000-1772312400@coastalencinitasrotary.org
SUMMARY:Encinitas Rotary Magic Show
DESCRIPTION:
URL:https://coastalencinitasrotary.org/event/encinitas-rotary-magic-show/
LOCATION:CA
CATEGORIES:Club Social Events
END:VEVENT
END:VCALENDAR