BEGIN:VCALENDAR
VERSION:2.0
PRODID:-//Coastal Encinitas Rotary Club - ECPv6.15.20//NONSGML v1.0//EN
CALSCALE:GREGORIAN
METHOD:PUBLISH
X-ORIGINAL-URL:https://coastalencinitasrotary.org
X-WR-CALDESC:Events for Coastal Encinitas Rotary Club
REFRESH-INTERVAL;VALUE=DURATION:PT1H
X-Robots-Tag:noindex
X-PUBLISHED-TTL:PT1H
BEGIN:VTIMEZONE
TZID:America/Los_Angeles
BEGIN:DAYLIGHT
TZOFFSETFROM:-0800
TZOFFSETTO:-0700
TZNAME:PDT
DTSTART:20240310T100000
END:DAYLIGHT
BEGIN:STANDARD
TZOFFSETFROM:-0700
TZOFFSETTO:-0800
TZNAME:PST
DTSTART:20241103T090000
END:STANDARD
BEGIN:DAYLIGHT
TZOFFSETFROM:-0800
TZOFFSETTO:-0700
TZNAME:PDT
DTSTART:20250309T100000
END:DAYLIGHT
BEGIN:STANDARD
TZOFFSETFROM:-0700
TZOFFSETTO:-0800
TZNAME:PST
DTSTART:20251102T090000
END:STANDARD
BEGIN:DAYLIGHT
TZOFFSETFROM:-0800
TZOFFSETTO:-0700
TZNAME:PDT
DTSTART:20260308T100000
END:DAYLIGHT
BEGIN:STANDARD
TZOFFSETFROM:-0700
TZOFFSETTO:-0800
TZNAME:PST
DTSTART:20261101T090000
END:STANDARD
BEGIN:DAYLIGHT
TZOFFSETFROM:-0800
TZOFFSETTO:-0700
TZNAME:PDT
DTSTART:20270314T100000
END:DAYLIGHT
BEGIN:STANDARD
TZOFFSETFROM:-0700
TZOFFSETTO:-0800
TZNAME:PST
DTSTART:20271107T090000
END:STANDARD
END:VTIMEZONE
BEGIN:VEVENT
DTSTART;TZID=America/Los_Angeles:20251202T121500
DTEND;TZID=America/Los_Angeles:20251202T133000
DTSTAMP:20260424T175015
CREATED:20251031T182613Z
LAST-MODIFIED:20251031T182819Z
UID:10000515-1764677700-1764682200@coastalencinitasrotary.org
SUMMARY:Speaker: Lorena Gurule-Montes\, MSW
DESCRIPTION:Lorena is the Development Director for the Foundation for the Children of the Californias.  The Foundation for the Children of the Californias is a tri-national collaboration with Canada\, the United States\, and Mexico\, endeavoring to enhance the health and nutrition of underserved children in the San Diego – Tijuana Mega-Region primarily through the operation of Hospital Infantil de las Californias\, a model pediatric specialty medical and education complex\, located one-half mile into Baja California\, Mexico.
URL:https://coastalencinitasrotary.org/event/speaker-lorena-gurule-montes-msw/
LOCATION:Cicciotti’s Trattoria Italiana & Seafood\, 1933 San Elijo Ave\, Cardiff\, CA\, 92007\, United States
CATEGORIES:Club Lunch Meetings
ATTACH;FMTTYPE=image/jpeg:https://coastalencinitasrotary.org/wp-content/uploads/2025/10/lorena_gurule-montes_.jpg
END:VEVENT
BEGIN:VEVENT
DTSTART;TZID=America/Los_Angeles:20251206T150000
DTEND;TZID=America/Los_Angeles:20251206T190000
DTSTAMP:20260424T175015
CREATED:20250820T201100Z
LAST-MODIFIED:20250820T201100Z
UID:10000494-1765033200-1765047600@coastalencinitasrotary.org
SUMMARY:Holiday Parade Marshalling
DESCRIPTION:Check back for more information.
URL:https://coastalencinitasrotary.org/event/holiday-parade-marshalling/
LOCATION:CA
ATTACH;FMTTYPE=image/jpeg:https://coastalencinitasrotary.org/wp-content/uploads/2024/07/IMG-0365-1.jpeg
END:VEVENT
BEGIN:VEVENT
DTSTART;TZID=America/Los_Angeles:20251209T121500
DTEND;TZID=America/Los_Angeles:20251209T133000
DTSTAMP:20260424T175015
CREATED:20251207T214153Z
LAST-MODIFIED:20251207T214249Z
UID:10000523-1765282500-1765287000@coastalencinitasrotary.org
SUMMARY:Speaker:  Fred Clarke- Carlsbad Flower Fields
DESCRIPTION:
URL:https://coastalencinitasrotary.org/event/speaker-fred-clarke-carlsbad-flower-fields/
LOCATION:CA
CATEGORIES:Club Lunch Meetings
END:VEVENT
BEGIN:VEVENT
DTSTART;TZID=America/Los_Angeles:20251211T173000
DTEND;TZID=America/Los_Angeles:20251211T190000
DTSTAMP:20260424T175015
CREATED:20250711T193414Z
LAST-MODIFIED:20250908T204156Z
UID:10000473-1765474200-1765479600@coastalencinitasrotary.org
SUMMARY:Board Meeting @Gretchen's Office
DESCRIPTION:
URL:https://coastalencinitasrotary.org/event/board-meeting-gretchens-office/2025-12-11/
LOCATION:CA
CATEGORIES:Board Meeting
ATTACH;FMTTYPE=image/png:https://coastalencinitasrotary.org/wp-content/uploads/2025/09/CER-Logo.png
END:VEVENT
BEGIN:VEVENT
DTSTART;TZID=America/Los_Angeles:20251213T170000
DTEND;TZID=America/Los_Angeles:20251213T210000
DTSTAMP:20260424T175015
CREATED:20250820T202206Z
LAST-MODIFIED:20251204T233844Z
UID:10000495-1765645200-1765659600@coastalencinitasrotary.org
SUMMARY:Holiday Party @ Rosenberg's
DESCRIPTION:
URL:https://coastalencinitasrotary.org/event/holiday-party-rosenbergs/
LOCATION:Adam &  Marti’s
CATEGORIES:Club Social Events
ATTACH;FMTTYPE=image/jpeg:https://coastalencinitasrotary.org/wp-content/uploads/2025/08/Rosenberg-e1755721300822.jpg
END:VEVENT
BEGIN:VEVENT
DTSTART;TZID=America/Los_Angeles:20251223T080000
DTEND;TZID=America/Los_Angeles:20260105T170000
DTSTAMP:20260424T175015
CREATED:20250922T204330Z
LAST-MODIFIED:20250922T204330Z
UID:10000511-1766476800-1767632400@coastalencinitasrotary.org
SUMMARY:Enjoy Your Holiday Season- Dark 12/23 -1/5
DESCRIPTION:
URL:https://coastalencinitasrotary.org/event/enjoy-your-holiday-season-dark-12-23-1-5/
LOCATION:CA
CATEGORIES:Club Lunch Meetings
ATTACH;FMTTYPE=image/jpeg:https://coastalencinitasrotary.org/wp-content/uploads/2025/09/holidays-greeting-card-for-winter-happy-holidays-fir-tree-branches-frame-with-lettering-3d-ball-vector.jpg
END:VEVENT
BEGIN:VEVENT
DTSTART;VALUE=DATE:20251225
DTEND;VALUE=DATE:20251226
DTSTAMP:20260424T175015
CREATED:20240802T061316Z
LAST-MODIFIED:20240802T061316Z
UID:10000278-1766620800-1766707199@coastalencinitasrotary.org
SUMMARY:Christmas
DESCRIPTION:
URL:https://coastalencinitasrotary.org/event/christmas/2025-12-25/
LOCATION:CA
CATEGORIES:Holiday
END:VEVENT
END:VCALENDAR