BEGIN:VCALENDAR
VERSION:2.0
PRODID:-//Coastal Encinitas Rotary Club - ECPv6.15.20//NONSGML v1.0//EN
CALSCALE:GREGORIAN
METHOD:PUBLISH
X-WR-CALNAME:Coastal Encinitas Rotary Club
X-ORIGINAL-URL:https://coastalencinitasrotary.org
X-WR-CALDESC:Events for Coastal Encinitas Rotary Club
REFRESH-INTERVAL;VALUE=DURATION:PT1H
X-Robots-Tag:noindex
X-PUBLISHED-TTL:PT1H
BEGIN:VTIMEZONE
TZID:America/Los_Angeles
BEGIN:DAYLIGHT
TZOFFSETFROM:-0800
TZOFFSETTO:-0700
TZNAME:PDT
DTSTART:20240310T100000
END:DAYLIGHT
BEGIN:STANDARD
TZOFFSETFROM:-0700
TZOFFSETTO:-0800
TZNAME:PST
DTSTART:20241103T090000
END:STANDARD
BEGIN:DAYLIGHT
TZOFFSETFROM:-0800
TZOFFSETTO:-0700
TZNAME:PDT
DTSTART:20250309T100000
END:DAYLIGHT
BEGIN:STANDARD
TZOFFSETFROM:-0700
TZOFFSETTO:-0800
TZNAME:PST
DTSTART:20251102T090000
END:STANDARD
BEGIN:DAYLIGHT
TZOFFSETFROM:-0800
TZOFFSETTO:-0700
TZNAME:PDT
DTSTART:20260308T100000
END:DAYLIGHT
BEGIN:STANDARD
TZOFFSETFROM:-0700
TZOFFSETTO:-0800
TZNAME:PST
DTSTART:20261101T090000
END:STANDARD
END:VTIMEZONE
BEGIN:VEVENT
DTSTART;TZID=America/Los_Angeles:20250603T121500
DTEND;TZID=America/Los_Angeles:20250603T133000
DTSTAMP:20260425T041244
CREATED:20250527T225303Z
LAST-MODIFIED:20250527T225310Z
UID:10000408-1748952900-1748957400@coastalencinitasrotary.org
SUMMARY:Speaker Mike Rosen.  Lake Atitlan Rotary Projects
DESCRIPTION:
URL:https://coastalencinitasrotary.org/event/speaker-mike-rosen-lake-atitlan-rotary-projects/
LOCATION:Cicciotti’s Trattoria Italiana & Seafood\, 1933 San Elijo Ave\, Cardiff\, CA\, 92007\, United States
CATEGORIES:Club Lunch Meetings
ATTACH;FMTTYPE=image/jpeg:https://coastalencinitasrotary.org/wp-content/uploads/2025/05/licensed-image.jpg
END:VEVENT
BEGIN:VEVENT
DTSTART;TZID=America/Los_Angeles:20250610T121500
DTEND;TZID=America/Los_Angeles:20250610T133000
DTSTAMP:20260425T041244
CREATED:20250527T225655Z
LAST-MODIFIED:20250605T173916Z
UID:10000409-1749557700-1749562200@coastalencinitasrotary.org
SUMMARY:Club Assembly: ACS & ECR event
DESCRIPTION:
URL:https://coastalencinitasrotary.org/event/club-assembly-acs-ecr-event/
LOCATION:Cicciotti’s Trattoria Italiana & Seafood\, 1933 San Elijo Ave\, Cardiff\, CA\, 92007\, United States
CATEGORIES:Club Lunch Meetings
ATTACH;FMTTYPE=image/png:https://coastalencinitasrotary.org/wp-content/uploads/2025/05/ACS.png
END:VEVENT
BEGIN:VEVENT
DTSTART;TZID=America/Los_Angeles:20250612T173000
DTEND;TZID=America/Los_Angeles:20250612T193000
DTSTAMP:20260425T041244
CREATED:20250519T200352Z
LAST-MODIFIED:20250612T203012Z
UID:10000407-1749749400-1749756600@coastalencinitasrotary.org
SUMMARY:New Board Meeting Location and Time TBD  June 12\, 2025
DESCRIPTION:
URL:https://coastalencinitasrotary.org/event/new-board-meeting-location-and-time-tbd-june-12-2025/
LOCATION:Coldwell Banker Real Estate Conference Room\, 1472 Encinitas Blvd\, ENCINITAS\, CA\, 92024\, United States
CATEGORIES:Board Meeting
END:VEVENT
BEGIN:VEVENT
DTSTART;TZID=America/Los_Angeles:20250615T080000
DTEND;TZID=America/Los_Angeles:20250615T170000
DTSTAMP:20260425T041244
CREATED:20240728T232451Z
LAST-MODIFIED:20240802T060537Z
UID:10000274-1749974400-1750006800@coastalencinitasrotary.org
SUMMARY:Father's Day
DESCRIPTION:
URL:https://coastalencinitasrotary.org/event/fathers-day/
LOCATION:CA
CATEGORIES:Holiday
END:VEVENT
BEGIN:VEVENT
DTSTART;TZID=America/Los_Angeles:20250617T121500
DTEND;TZID=America/Los_Angeles:20250617T133000
DTSTAMP:20260425T041244
CREATED:20250527T230442Z
LAST-MODIFIED:20250605T174033Z
UID:10000410-1750162500-1750167000@coastalencinitasrotary.org
SUMMARY:Encinitas City Council Luke Schafer & Jim O'Hara  Our first 6 months
DESCRIPTION:https://www.shaffer4encinitas.com/meet-luke \nhttps://www.jimohara4encinitas.com/about \n 
URL:https://coastalencinitasrotary.org/event/encinitas-city-council-luke-schafer-jim-ohara-our-first-6-months/
LOCATION:Cicciotti’s Trattoria Italiana & Seafood\, 1933 San Elijo Ave\, Cardiff\, CA\, 92007\, United States
CATEGORIES:Club Lunch Meetings
ATTACH;FMTTYPE=image/png:https://coastalencinitasrotary.org/wp-content/uploads/2025/05/Seal_of_Encinitas_California.png
END:VEVENT
BEGIN:VEVENT
DTSTART;TZID=America/Los_Angeles:20250617T133000
DTEND;TZID=America/Los_Angeles:20250617T150000
DTSTAMP:20260425T041244
CREATED:20250608T192239Z
LAST-MODIFIED:20250608T192239Z
UID:10000450-1750167000-1750172400@coastalencinitasrotary.org
SUMMARY:International Service Committee Meeting (following our lunch meeting)
DESCRIPTION:
URL:https://coastalencinitasrotary.org/event/international-service-committee-meeting-following-our-lunch-meeting/
LOCATION:Cicciotti’s Trattoria Italiana & Seafood\, 1933 San Elijo Ave\, Cardiff\, CA\, 92007\, United States
CATEGORIES:Club International Service
ATTACH;FMTTYPE=image/jpeg:https://coastalencinitasrotary.org/wp-content/uploads/2025/06/International-work-rotated.jpeg
END:VEVENT
BEGIN:VEVENT
DTSTART;TZID=America/Los_Angeles:20250624T121500
DTEND;TZID=America/Los_Angeles:20250624T133000
DTSTAMP:20260425T041244
CREATED:20250527T231859Z
LAST-MODIFIED:20250605T173819Z
UID:10000411-1750767300-1750771800@coastalencinitasrotary.org
SUMMARY:Grant Lichtman.
DESCRIPTION:Wisdom Road – Grant Lichtman
URL:https://coastalencinitasrotary.org/event/grant-lichtman/
LOCATION:Cicciotti’s Trattoria Italiana & Seafood\, 1933 San Elijo Ave\, Cardiff\, CA\, 92007\, United States
CATEGORIES:Club Lunch Meetings
ATTACH;FMTTYPE=image/png:https://coastalencinitasrotary.org/wp-content/uploads/2025/05/Grant-Lichtman.png
END:VEVENT
BEGIN:VEVENT
DTSTART;TZID=America/Los_Angeles:20250628T173000
DTEND;TZID=America/Los_Angeles:20250628T210000
DTSTAMP:20260425T041244
CREATED:20250605T224417Z
LAST-MODIFIED:20250605T224417Z
UID:10000449-1751131800-1751144400@coastalencinitasrotary.org
SUMMARY:Demotion Dinner
DESCRIPTION:Check back for more info about dress code and what to bring.
URL:https://coastalencinitasrotary.org/event/demotion-dinner/
LOCATION:La Costa Oaks Community Center\, 7400 Circulo Sequoia\, Carlsbad\, United States
CATEGORIES:Club Social Events
ATTACH;FMTTYPE=image/jpeg:https://coastalencinitasrotary.org/wp-content/uploads/2025/06/Chris-Ralph-e1749163432938.jpg
END:VEVENT
END:VCALENDAR