BEGIN:VCALENDAR
VERSION:2.0
PRODID:-//Coastal Encinitas Rotary Club - ECPv6.15.20//NONSGML v1.0//EN
CALSCALE:GREGORIAN
METHOD:PUBLISH
X-WR-CALNAME:Coastal Encinitas Rotary Club
X-ORIGINAL-URL:https://coastalencinitasrotary.org
X-WR-CALDESC:Events for Coastal Encinitas Rotary Club
REFRESH-INTERVAL;VALUE=DURATION:PT1H
X-Robots-Tag:noindex
X-PUBLISHED-TTL:PT1H
BEGIN:VTIMEZONE
TZID:America/Los_Angeles
BEGIN:DAYLIGHT
TZOFFSETFROM:-0800
TZOFFSETTO:-0700
TZNAME:PDT
DTSTART:20240310T100000
END:DAYLIGHT
BEGIN:STANDARD
TZOFFSETFROM:-0700
TZOFFSETTO:-0800
TZNAME:PST
DTSTART:20241103T090000
END:STANDARD
BEGIN:DAYLIGHT
TZOFFSETFROM:-0800
TZOFFSETTO:-0700
TZNAME:PDT
DTSTART:20250309T100000
END:DAYLIGHT
BEGIN:STANDARD
TZOFFSETFROM:-0700
TZOFFSETTO:-0800
TZNAME:PST
DTSTART:20251102T090000
END:STANDARD
BEGIN:DAYLIGHT
TZOFFSETFROM:-0800
TZOFFSETTO:-0700
TZNAME:PDT
DTSTART:20260308T100000
END:DAYLIGHT
BEGIN:STANDARD
TZOFFSETFROM:-0700
TZOFFSETTO:-0800
TZNAME:PST
DTSTART:20261101T090000
END:STANDARD
END:VTIMEZONE
BEGIN:VEVENT
DTSTART;TZID=America/Los_Angeles:20250506T123000
DTEND;TZID=America/Los_Angeles:20250506T133000
DTSTAMP:20260425T055137
CREATED:20250428T184431Z
LAST-MODIFIED:20250428T184431Z
UID:10000402-1746534600-1746538200@coastalencinitasrotary.org
SUMMARY:Leah Bissonette - Local Birds
DESCRIPTION:
URL:https://coastalencinitasrotary.org/event/leah-bissonette-local-birds/
LOCATION:CA
CATEGORIES:Club Lunch Meetings
END:VEVENT
BEGIN:VEVENT
DTSTART;TZID=America/Los_Angeles:20250510T170000
DTEND;TZID=America/Los_Angeles:20250510T190000
DTSTAMP:20260425T055137
CREATED:20250211T191424Z
LAST-MODIFIED:20250211T191424Z
UID:10000387-1746896400-1746903600@coastalencinitasrotary.org
SUMMARY:Golf Ball Drop and Silent Auction
DESCRIPTION:
URL:https://coastalencinitasrotary.org/event/golf-ball-drop-and-silent-auction/
LOCATION:Encinitas Ranch Golf Course Club House\, 1275 Quail Gardens Drive\, Encinitas\, California\, 92024
END:VEVENT
BEGIN:VEVENT
DTSTART;VALUE=DATE:20250511
DTEND;VALUE=DATE:20250512
DTSTAMP:20260425T055137
CREATED:20240728T232316Z
LAST-MODIFIED:20240802T061719Z
UID:10000295-1746921600-1747007999@coastalencinitasrotary.org
SUMMARY:Mother's Day
DESCRIPTION:
URL:https://coastalencinitasrotary.org/event/mothers-day/2025-05-11/
LOCATION:CA
CATEGORIES:Holiday
END:VEVENT
BEGIN:VEVENT
DTSTART;TZID=America/Los_Angeles:20250513T123000
DTEND;TZID=America/Los_Angeles:20250513T133000
DTSTAMP:20260425T055137
CREATED:20250428T184615Z
LAST-MODIFIED:20250428T184615Z
UID:10000403-1747139400-1747143000@coastalencinitasrotary.org
SUMMARY:Chuck and Ralph B International Fellowship Ride Adventures
DESCRIPTION:
URL:https://coastalencinitasrotary.org/event/chuck-and-ralph-b-international-fellowship-ride-adventures/
LOCATION:CA
CATEGORIES:Club Lunch Meetings
END:VEVENT
BEGIN:VEVENT
DTSTART;TZID=America/Los_Angeles:20250521T173000
DTEND;TZID=America/Los_Angeles:20250521T193000
DTSTAMP:20260425T055137
CREATED:20250519T193201Z
LAST-MODIFIED:20250519T193201Z
UID:10000405-1747848600-1747855800@coastalencinitasrotary.org
SUMMARY:Board Meeting @Hirschmann's NEW Date Wednesday May 21
DESCRIPTION:Dinner served at 5:30.  Meeting promptly at 6pm.  Marianela will close out the year with her homemade Pizza!
URL:https://coastalencinitasrotary.org/event/board-meeting-hirschmanns-new-date-wednesday-may-21/
LOCATION:CA
CATEGORIES:Board Meeting
ATTACH;FMTTYPE=image/jpeg:https://coastalencinitasrotary.org/wp-content/uploads/2025/05/Simply-Recipes-Homemade-Pizza-Dough-Lead-Shot-1c-c2b1885d27d4481c9cfe6f6286a64342.jpg
END:VEVENT
BEGIN:VEVENT
DTSTART;TZID=America/Los_Angeles:20250522T160000
DTEND;TZID=America/Los_Angeles:20250522T190000
DTSTAMP:20260425T055137
CREATED:20250519T194001Z
LAST-MODIFIED:20250519T194018Z
UID:10000406-1747929600-1747940400@coastalencinitasrotary.org
SUMMARY:Happy Hour at Encinitas Ranch Golf Course Club House 4-7pm May 22
DESCRIPTION:
URL:https://coastalencinitasrotary.org/event/happy-hour-at-encinitas-ranch-golf-course-club-house-4-7pm-may-22/
LOCATION:CA
CATEGORIES:Club Social Events
ATTACH;FMTTYPE=image/jpeg:https://coastalencinitasrotary.org/wp-content/uploads/2025/05/Happy-Hour.jpg
END:VEVENT
BEGIN:VEVENT
DTSTART;VALUE=DATE:20250526
DTEND;VALUE=DATE:20250527
DTSTAMP:20260425T055137
CREATED:20240728T232401Z
LAST-MODIFIED:20240802T061753Z
UID:10000300-1748217600-1748303999@coastalencinitasrotary.org
SUMMARY:Memorial Day
DESCRIPTION:
URL:https://coastalencinitasrotary.org/event/memorial-day/2025-05-26/
LOCATION:CA
CATEGORIES:Holiday
END:VEVENT
BEGIN:VEVENT
DTSTART;TZID=America/Los_Angeles:20250527T123000
DTEND;TZID=America/Los_Angeles:20250527T133000
DTSTAMP:20260425T055137
CREATED:20250428T184900Z
LAST-MODIFIED:20250428T184900Z
UID:10000404-1748349000-1748352600@coastalencinitasrotary.org
SUMMARY:Update on CRC with John Van Cleef
DESCRIPTION:
URL:https://coastalencinitasrotary.org/event/update-on-crc-with-john-van-cleef/
LOCATION:CA
CATEGORIES:Club Lunch Meetings
END:VEVENT
END:VCALENDAR