BEGIN:VCALENDAR
VERSION:2.0
PRODID:-//Coastal Encinitas Rotary Club - ECPv6.15.20//NONSGML v1.0//EN
CALSCALE:GREGORIAN
METHOD:PUBLISH
X-ORIGINAL-URL:https://coastalencinitasrotary.org
X-WR-CALDESC:Events for Coastal Encinitas Rotary Club
REFRESH-INTERVAL;VALUE=DURATION:PT1H
X-Robots-Tag:noindex
X-PUBLISHED-TTL:PT1H
BEGIN:VTIMEZONE
TZID:America/Los_Angeles
BEGIN:DAYLIGHT
TZOFFSETFROM:-0800
TZOFFSETTO:-0700
TZNAME:PDT
DTSTART:20240310T100000
END:DAYLIGHT
BEGIN:STANDARD
TZOFFSETFROM:-0700
TZOFFSETTO:-0800
TZNAME:PST
DTSTART:20241103T090000
END:STANDARD
BEGIN:DAYLIGHT
TZOFFSETFROM:-0800
TZOFFSETTO:-0700
TZNAME:PDT
DTSTART:20250309T100000
END:DAYLIGHT
BEGIN:STANDARD
TZOFFSETFROM:-0700
TZOFFSETTO:-0800
TZNAME:PST
DTSTART:20251102T090000
END:STANDARD
BEGIN:DAYLIGHT
TZOFFSETFROM:-0800
TZOFFSETTO:-0700
TZNAME:PDT
DTSTART:20260308T100000
END:DAYLIGHT
BEGIN:STANDARD
TZOFFSETFROM:-0700
TZOFFSETTO:-0800
TZNAME:PST
DTSTART:20261101T090000
END:STANDARD
END:VTIMEZONE
BEGIN:VEVENT
DTSTART;TZID=America/Los_Angeles:20250401T121500
DTEND;TZID=America/Los_Angeles:20250401T133000
DTSTAMP:20260425T072812
CREATED:20250313T171134Z
LAST-MODIFIED:20250313T171134Z
UID:10000037-1743509700-1743514200@coastalencinitasrotary.org
SUMMARY:Opening Baseball Season with Steve " Smitty" Smith
DESCRIPTION:“Smitty” is a 40-year-old local who rose through the ranks of minor league baseball alongside Tim Flannery and other local legends. He achieved significant success in the minors\, including winning the AAA World Series. He concluded his career in the majors\, serving as the third base coach for the Seattle Mariners and winning the World Series.
URL:https://coastalencinitasrotary.org/event/club-lunch-meeting-21/
LOCATION:Cicciotti’s Trattoria Italiana & Seafood\, 1933 San Elijo Ave\, Cardiff\, CA\, 92007\, United States
CATEGORIES:Club Lunch Meetings
END:VEVENT
BEGIN:VEVENT
DTSTART;TZID=America/Los_Angeles:20250408T121500
DTEND;TZID=America/Los_Angeles:20250408T133000
DTSTAMP:20260425T072812
CREATED:20250222T211112Z
LAST-MODIFIED:20250404T012648Z
UID:10000038-1744114500-1744119000@coastalencinitasrotary.org
SUMMARY:Jennifer Coburn\, Author The Girls of the Glimmer Factory
DESCRIPTION:Jennifer Coburn is the author of The Girls of the Glimmer Factory and Cradles of the Reich\,  a historical novel about the strength of women’s friendship and the connections that can be forged during even the most harrowing of times. \n           \n 
URL:https://coastalencinitasrotary.org/event/club-lunch-meeting-20/
LOCATION:Cicciotti’s Trattoria Italiana & Seafood\, 1933 San Elijo Ave\, Cardiff\, CA\, 92007\, United States
CATEGORIES:Club Lunch Meetings
ATTACH;FMTTYPE=image/jpeg:https://coastalencinitasrotary.org/wp-content/uploads/2025/02/Jennifer-Coburn.jpeg
END:VEVENT
BEGIN:VEVENT
DTSTART;TZID=America/Los_Angeles:20250415T121500
DTEND;TZID=America/Los_Angeles:20250415T133000
DTSTAMP:20260425T072812
CREATED:20250404T012540Z
LAST-MODIFIED:20250404T012540Z
UID:10000039-1744719300-1744723800@coastalencinitasrotary.org
SUMMARY:Ralph Hirschmann- Watergate: My summer in the White House
DESCRIPTION:
URL:https://coastalencinitasrotary.org/event/club-lunch-meeting-23/
LOCATION:Cicciotti’s Trattoria Italiana & Seafood\, 1933 San Elijo Ave\, Cardiff\, CA\, 92007\, United States
CATEGORIES:Club Lunch Meetings
ATTACH;FMTTYPE=image/jpeg:https://coastalencinitasrotary.org/wp-content/uploads/2025/03/Ralph-scaled.jpg
END:VEVENT
BEGIN:VEVENT
DTSTART;TZID=America/Los_Angeles:20250420T080000
DTEND;TZID=America/Los_Angeles:20250420T170000
DTSTAMP:20260425T072812
CREATED:20240728T232216Z
LAST-MODIFIED:20240802T060555Z
UID:10000271-1745136000-1745168400@coastalencinitasrotary.org
SUMMARY:Easter
DESCRIPTION:
URL:https://coastalencinitasrotary.org/event/easter/
LOCATION:CA
CATEGORIES:Holiday
END:VEVENT
BEGIN:VEVENT
DTSTART;TZID=America/Los_Angeles:20250422T121500
DTEND;TZID=America/Los_Angeles:20250422T133000
DTSTAMP:20260425T072812
CREATED:20250404T003952Z
LAST-MODIFIED:20250404T003952Z
UID:10000040-1745324100-1745328600@coastalencinitasrotary.org
SUMMARY:Club Assembly-Golf Ball Drop
DESCRIPTION:
URL:https://coastalencinitasrotary.org/event/club-lunch-meeting-22/
LOCATION:Cicciotti’s Trattoria Italiana & Seafood\, 1933 San Elijo Ave\, Cardiff\, CA\, 92007\, United States
CATEGORIES:Club Lunch Meetings
ATTACH;FMTTYPE=image/webp:https://coastalencinitasrotary.org/wp-content/uploads/2025/02/header-sponsors-helicopter-golf.webp
END:VEVENT
BEGIN:VEVENT
DTSTART;TZID=America/Los_Angeles:20250429T113000
DTEND;TZID=America/Los_Angeles:20250429T133000
DTSTAMP:20260425T072812
CREATED:20241212T230715Z
LAST-MODIFIED:20241212T230715Z
UID:10000376-1745926200-1745933400@coastalencinitasrotary.org
SUMMARY:Area 4 District 5340 Lunch Meeting
DESCRIPTION:
URL:https://coastalencinitasrotary.org/event/area-4-district-5340-lunch-meeting/
LOCATION:CA
CATEGORIES:Club Lunch Meetings
END:VEVENT
END:VCALENDAR