BEGIN:VCALENDAR
VERSION:2.0
PRODID:-//Coastal Encinitas Rotary Club - ECPv6.15.20//NONSGML v1.0//EN
CALSCALE:GREGORIAN
METHOD:PUBLISH
X-WR-CALNAME:Coastal Encinitas Rotary Club
X-ORIGINAL-URL:https://coastalencinitasrotary.org
X-WR-CALDESC:Events for Coastal Encinitas Rotary Club
REFRESH-INTERVAL;VALUE=DURATION:PT1H
X-Robots-Tag:noindex
X-PUBLISHED-TTL:PT1H
BEGIN:VTIMEZONE
TZID:America/Los_Angeles
BEGIN:DAYLIGHT
TZOFFSETFROM:-0800
TZOFFSETTO:-0700
TZNAME:PDT
DTSTART:20240310T100000
END:DAYLIGHT
BEGIN:STANDARD
TZOFFSETFROM:-0700
TZOFFSETTO:-0800
TZNAME:PST
DTSTART:20241103T090000
END:STANDARD
BEGIN:DAYLIGHT
TZOFFSETFROM:-0800
TZOFFSETTO:-0700
TZNAME:PDT
DTSTART:20250309T100000
END:DAYLIGHT
BEGIN:STANDARD
TZOFFSETFROM:-0700
TZOFFSETTO:-0800
TZNAME:PST
DTSTART:20251102T090000
END:STANDARD
BEGIN:DAYLIGHT
TZOFFSETFROM:-0800
TZOFFSETTO:-0700
TZNAME:PDT
DTSTART:20260308T100000
END:DAYLIGHT
BEGIN:STANDARD
TZOFFSETFROM:-0700
TZOFFSETTO:-0800
TZNAME:PST
DTSTART:20261101T090000
END:STANDARD
END:VTIMEZONE
BEGIN:VEVENT
DTSTART;TZID=America/Los_Angeles:20250304T121500
DTEND;TZID=America/Los_Angeles:20250304T133000
DTSTAMP:20260425T090716
CREATED:20250112T223922Z
LAST-MODIFIED:20250116T000839Z
UID:10000033-1741090500-1741095000@coastalencinitasrotary.org
SUMMARY:CAL Fire Crew Captain Henry Vanzzini: What is a Hand Crew and the Role they play during an emergency
DESCRIPTION:
URL:https://coastalencinitasrotary.org/event/club-lunch-meeting-12/
LOCATION:Cicciotti’s Trattoria Italiana & Seafood\, 1933 San Elijo Ave\, Cardiff\, CA\, 92007\, United States
CATEGORIES:Club Lunch Meetings
END:VEVENT
BEGIN:VEVENT
DTSTART;TZID=America/Los_Angeles:20250305T180000
DTEND;TZID=America/Los_Angeles:20250305T193000
DTSTAMP:20260425T090716
CREATED:20250220T192129Z
LAST-MODIFIED:20250220T192129Z
UID:10000388-1741197600-1741203000@coastalencinitasrotary.org
SUMMARY:Cardiff 101 Member Mixer @Ciccioitti's
DESCRIPTION:Member Mixer \n\n\n\n\nJoin Us on \nWednesday\, March 5th\, 6-7:30pm \nat Cicciotti’s for some spring savings: 1933 San Elijo Ave\, Cardiff\, CA 92007  \nLearn how to save on energy bills in the office and at home by meeting with SDGE’s Tiffiney Ballard. \nThis is an opportunity to learn how to cut costs personally and professionally. \nPlease register in advance for food planning purposes.  RSVP Member Mixer — Cardiff 101 Main Street
URL:https://coastalencinitasrotary.org/event/cardiff-101-member-mixer-ciccioittis/
LOCATION:Cicciotti’s Trattoria Italiana & Seafood\, 1933 San Elijo Ave\, Cardiff\, CA\, 92007\, United States
CATEGORIES:Club Social Events
END:VEVENT
BEGIN:VEVENT
DTSTART;TZID=America/Los_Angeles:20250311T121500
DTEND;TZID=America/Los_Angeles:20250311T133000
DTSTAMP:20260425T090716
CREATED:20250112T224053Z
LAST-MODIFIED:20250112T224053Z
UID:10000034-1741695300-1741699800@coastalencinitasrotary.org
SUMMARY:Ken Kremensky: Storm Chaser\, the 2024 storm season
DESCRIPTION:
URL:https://coastalencinitasrotary.org/event/club-lunch-meeting-13/
LOCATION:Cicciotti’s Trattoria Italiana & Seafood\, 1933 San Elijo Ave\, Cardiff\, CA\, 92007\, United States
CATEGORIES:Club Lunch Meetings
END:VEVENT
BEGIN:VEVENT
DTSTART;TZID=America/Los_Angeles:20250314T093000
DTEND;TZID=America/Los_Angeles:20250314T150000
DTSTAMP:20260425T090716
CREATED:20250123T002752Z
LAST-MODIFIED:20250223T064103Z
UID:10000386-1741944600-1741964400@coastalencinitasrotary.org
SUMMARY:Feed the Marines
DESCRIPTION:
URL:https://coastalencinitasrotary.org/event/feed-the-marins/
LOCATION:CA
CATEGORIES:Club Community Service
ATTACH;FMTTYPE=image/jpeg:https://coastalencinitasrotary.org/wp-content/uploads/2025/01/374685148_700716638766763_1825784233619855607_n.jpg
END:VEVENT
BEGIN:VEVENT
DTSTART;TZID=America/Los_Angeles:20250318T121500
DTEND;TZID=America/Los_Angeles:20250318T133000
DTSTAMP:20260425T090716
CREATED:20250112T224309Z
LAST-MODIFIED:20250116T001102Z
UID:10000035-1742300100-1742304600@coastalencinitasrotary.org
SUMMARY:CAL Fire Battalion Chief David Pietrczak: The use of and role of Bulldozers during wildland Fires and all emergencies
DESCRIPTION:
URL:https://coastalencinitasrotary.org/event/club-lunch-meeting-14/
LOCATION:Cicciotti’s Trattoria Italiana & Seafood\, 1933 San Elijo Ave\, Cardiff\, CA\, 92007\, United States
CATEGORIES:Club Lunch Meetings
END:VEVENT
BEGIN:VEVENT
DTSTART;TZID=America/Los_Angeles:20250325T121500
DTEND;TZID=America/Los_Angeles:20250325T133000
DTSTAMP:20260425T090716
CREATED:20250112T224433Z
LAST-MODIFIED:20250112T224434Z
UID:10000036-1742904900-1742909400@coastalencinitasrotary.org
SUMMARY:CAL Fire Law Enforcement Battalion Chief: The Job of Investigating Fires\, looking for the cause and origin
DESCRIPTION:
URL:https://coastalencinitasrotary.org/event/club-lunch-meeting-15/
LOCATION:Cicciotti’s Trattoria Italiana & Seafood\, 1933 San Elijo Ave\, Cardiff\, CA\, 92007\, United States
CATEGORIES:Club Lunch Meetings
END:VEVENT
END:VCALENDAR