BEGIN:VCALENDAR
VERSION:2.0
PRODID:-//Coastal Encinitas Rotary Club - ECPv6.15.20//NONSGML v1.0//EN
CALSCALE:GREGORIAN
METHOD:PUBLISH
X-ORIGINAL-URL:https://coastalencinitasrotary.org
X-WR-CALDESC:Events for Coastal Encinitas Rotary Club
REFRESH-INTERVAL;VALUE=DURATION:PT1H
X-Robots-Tag:noindex
X-PUBLISHED-TTL:PT1H
BEGIN:VTIMEZONE
TZID:America/Los_Angeles
BEGIN:DAYLIGHT
TZOFFSETFROM:-0800
TZOFFSETTO:-0700
TZNAME:PDT
DTSTART:20240310T100000
END:DAYLIGHT
BEGIN:STANDARD
TZOFFSETFROM:-0700
TZOFFSETTO:-0800
TZNAME:PST
DTSTART:20241103T090000
END:STANDARD
BEGIN:DAYLIGHT
TZOFFSETFROM:-0800
TZOFFSETTO:-0700
TZNAME:PDT
DTSTART:20250309T100000
END:DAYLIGHT
BEGIN:STANDARD
TZOFFSETFROM:-0700
TZOFFSETTO:-0800
TZNAME:PST
DTSTART:20251102T090000
END:STANDARD
BEGIN:DAYLIGHT
TZOFFSETFROM:-0800
TZOFFSETTO:-0700
TZNAME:PDT
DTSTART:20260308T100000
END:DAYLIGHT
BEGIN:STANDARD
TZOFFSETFROM:-0700
TZOFFSETTO:-0800
TZNAME:PST
DTSTART:20261101T090000
END:STANDARD
END:VTIMEZONE
BEGIN:VEVENT
DTSTART;VALUE=DATE:20250101
DTEND;VALUE=DATE:20250102
DTSTAMP:20260425T121321
CREATED:20240802T062529Z
LAST-MODIFIED:20241001T233047Z
UID:10000330-1735689600-1735775999@coastalencinitasrotary.org
SUMMARY:New Years Day
DESCRIPTION:
URL:https://coastalencinitasrotary.org/event/new-years-day/2025-01-01/
LOCATION:CA
CATEGORIES:Holiday
END:VEVENT
BEGIN:VEVENT
DTSTART;TZID=America/Los_Angeles:20250107T121500
DTEND;TZID=America/Los_Angeles:20250107T133000
DTSTAMP:20260425T121321
CREATED:20241122T030429Z
LAST-MODIFIED:20250106T223836Z
UID:10000028-1736252100-1736256600@coastalencinitasrotary.org
SUMMARY:Club Lunch Meeting @Cicciotti's with Alan Lerchbacker\, Navy Diver for Space Shuttle Challenger
DESCRIPTION:Space Shuttle Challenger exploded on takeoff killing all on board.  Including on of the first civilian\, a school teacher.\nAs the Nation mourned US Navy frogmen were sent immediately to the site to recover what they could so NASA could investigate.\n\nAlan Lerchbacker retired USN Captain\, Navy EOD diver was Officer in charge of the mission.  His presentation will detail this incredible mission and historical event.  A most unique opportunity to hear first hand.
URL:https://coastalencinitasrotary.org/event/club-lunch-meeting-7/
LOCATION:Cicciotti’s Trattoria Italiana & Seafood\, 1933 San Elijo Ave\, Cardiff\, CA\, 92007\, United States
CATEGORIES:Club Lunch Meetings
END:VEVENT
BEGIN:VEVENT
DTSTART;TZID=America/Los_Angeles:20250114T121500
DTEND;TZID=America/Los_Angeles:20250114T133000
DTSTAMP:20260425T121321
CREATED:20241122T032011Z
LAST-MODIFIED:20250113T013150Z
UID:10000026-1736856900-1736861400@coastalencinitasrotary.org
SUMMARY:Speaker Russ  Low Expert on Chinese American History
DESCRIPTION:
URL:https://coastalencinitasrotary.org/event/club-lunch-meeting-10/
LOCATION:Cicciotti’s Trattoria Italiana & Seafood\, 1933 San Elijo Ave\, Cardiff\, CA\, 92007\, United States
CATEGORIES:Club Lunch Meetings
END:VEVENT
BEGIN:VEVENT
DTSTART;VALUE=DATE:20250120
DTEND;VALUE=DATE:20250121
DTSTAMP:20260425T121321
CREATED:20240728T231957Z
LAST-MODIFIED:20240802T061933Z
UID:10000310-1737331200-1737417599@coastalencinitasrotary.org
SUMMARY:Inauguration Day
DESCRIPTION:
URL:https://coastalencinitasrotary.org/event/inauguration-day/2025-01-20/
LOCATION:CA
CATEGORIES:Holiday
END:VEVENT
BEGIN:VEVENT
DTSTART;TZID=America/Los_Angeles:20250121T121500
DTEND;TZID=America/Los_Angeles:20250121T133000
DTSTAMP:20260425T121321
CREATED:20241122T031538Z
LAST-MODIFIED:20250113T234627Z
UID:10000027-1737461700-1737466200@coastalencinitasrotary.org
SUMMARY:8 Slides that Explain the World with Bob  Hemphill Energy Experts
DESCRIPTION:Our own members Bob H and Leah B \n\n\n\n\nThey have held top positions in the energy business for decades. Their backgrounds include building hydroelectric\, coal\, gas\, and solar power plants all over the world.\nThey formed a nonprofit and have spoken all over the Country on the efficiency and benefits of Solar power. We are blessed to have them present to our club.  Do not miss this unique opportunity!
URL:https://coastalencinitasrotary.org/event/club-lunch-meeting-9/
LOCATION:Cicciotti’s Trattoria Italiana & Seafood\, 1933 San Elijo Ave\, Cardiff\, CA\, 92007\, United States
CATEGORIES:Club Lunch Meetings
END:VEVENT
BEGIN:VEVENT
DTSTART;TZID=America/Los_Angeles:20250123T170000
DTEND;TZID=America/Los_Angeles:20250123T200000
DTSTAMP:20260425T121321
CREATED:20241030T125546Z
LAST-MODIFIED:20250111T010827Z
UID:10000369-1737651600-1737662400@coastalencinitasrotary.org
SUMMARY:Purse Bingo 2025-SOLD OUT
DESCRIPTION: \nJoin Us for a Fabulous Night of Designer Purse BINGO!\nGet ready for an unforgettable evening filled with excitement\, fashion\, and fun!Join us for Purse BINGO\, where you'll have the chance to win stunning designer purses! \nWith your ticket\, you'll receive 8 bingo games and one Drink Ticket and enjoy a Light Dinner—including delicious pizza\, fresh salads\, and tasty desserts. \nTHIS IS A CASH-ONLY EVENT!\n			\n			\n				\n				\n				\n				\n			\n				\n				\n				\n				\n				\n				\n				\n				\n				\n				\n				BUT THAT'S NOT ALL!\nRaffle tickets will also be available for a chance to win incredible gift baskets and even more fabulous designer purses! \nThis event sells out every year\, so don't wait—secure your ticket today! \n✨ Ticket prices: $70\n✨ Early Bird Special:  $60 if purchased before December 31\, 2024\nDon't miss out on one of the most exciting nights of the year! Get your tickets now and be part of the fun! \n\n\n\n\n\n			\n			\n				\n				\n				\n				\n			\n				\n				\n				\n				\n				\n				\n				\n				\n				\n				\n				\n			\n				\n				\n				\n				\n				WHEN AND WHERE\nJanuary 23\, 2025 \n5:00 Check in - 6:00 First game \nEncinitas Community and Senior Center\n1140 Oakcrest Park Dr\, Encinitas\, CA 92024 \n			\n				\n				\n				\n				\n				\n			\n				\n				\n				\n				\n				\n			\n				\n				\n				\n				\n				Can't attend? Make a donation instead!\n			\n				Donate Now!\n			\n			\n				\n				\n				\n				\n			\n				\n				\n			\n				\n				\n				\n				\n				\n				\n				\n				\n				\n				\n				\n				\n				\n				\n				\n				\n				\n				You must select the number of tickets you want to purchase BEFORE clicking the GET TICKETS button!\n			\n				\n				\n				\n				\n				Hint: Click on the + sign.
URL:https://coastalencinitasrotary.org/event/purse-bingo-2025/
LOCATION:Encinitas Community and Senior Center\, 1140 Oakcrest Park Dr.\, Encinitas\, CA\, 92024\, United States
CATEGORIES:Fundraiser
END:VEVENT
BEGIN:VEVENT
DTSTART;TZID=America/Los_Angeles:20250128T121500
DTEND;TZID=America/Los_Angeles:20250128T133000
DTSTAMP:20260425T121321
CREATED:20241124T190913Z
LAST-MODIFIED:20250113T012133Z
UID:10000025-1738066500-1738071000@coastalencinitasrotary.org
SUMMARY:George Sousa- Was the Only Survivor After a Tank Attack at Heartbreak Ridge
DESCRIPTION:George Sousa was working with his father in their family fishing business when he was drafted into the Army in February 1951 – he was 20 years old. He left for Korea in April 1951 and only a week after arriving found himself on the front lines of fighting in the Punchbowl area. Sousa continued fighting in the Battle of Bloody Ridge and then on to the Battle of Heartbreak Ridge. On September 13\, 1951\, at Heartbreak Ridge\, an enemy tank fired at Sousa’s position. The explosion killed everyone in Sousa’s unit\, including three of his closest friends. Sousa would be evacuated for shrapnel wounds and battle fatigue. George Sousa would recover from his wounds\, return to combat\, and continue to fight on the front lines until March of 1952 when he was sent home.
URL:https://coastalencinitasrotary.org/event/club-lunch-meeting-11/
LOCATION:Cicciotti’s Trattoria Italiana & Seafood\, 1933 San Elijo Ave\, Cardiff\, CA\, 92007\, United States
CATEGORIES:Club Lunch Meetings
END:VEVENT
END:VCALENDAR