BEGIN:VCALENDAR
VERSION:2.0
PRODID:-//Coastal Encinitas Rotary Club - ECPv6.15.20//NONSGML v1.0//EN
CALSCALE:GREGORIAN
METHOD:PUBLISH
X-ORIGINAL-URL:https://coastalencinitasrotary.org
X-WR-CALDESC:Events for Coastal Encinitas Rotary Club
REFRESH-INTERVAL;VALUE=DURATION:PT1H
X-Robots-Tag:noindex
X-PUBLISHED-TTL:PT1H
BEGIN:VTIMEZONE
TZID:America/Los_Angeles
BEGIN:DAYLIGHT
TZOFFSETFROM:-0800
TZOFFSETTO:-0700
TZNAME:PDT
DTSTART:20240310T100000
END:DAYLIGHT
BEGIN:STANDARD
TZOFFSETFROM:-0700
TZOFFSETTO:-0800
TZNAME:PST
DTSTART:20241103T090000
END:STANDARD
BEGIN:DAYLIGHT
TZOFFSETFROM:-0800
TZOFFSETTO:-0700
TZNAME:PDT
DTSTART:20250309T100000
END:DAYLIGHT
BEGIN:STANDARD
TZOFFSETFROM:-0700
TZOFFSETTO:-0800
TZNAME:PST
DTSTART:20251102T090000
END:STANDARD
BEGIN:DAYLIGHT
TZOFFSETFROM:-0800
TZOFFSETTO:-0700
TZNAME:PDT
DTSTART:20260308T100000
END:DAYLIGHT
BEGIN:STANDARD
TZOFFSETFROM:-0700
TZOFFSETTO:-0800
TZNAME:PST
DTSTART:20261101T090000
END:STANDARD
END:VTIMEZONE
BEGIN:VEVENT
DTSTART;TZID=America/Los_Angeles:20251118T121500
DTEND;TZID=America/Los_Angeles:20251118T133000
DTSTAMP:20260424T211057
CREATED:20251031T190220Z
LAST-MODIFIED:20251031T190402Z
UID:10000518-1763468100-1763472600@coastalencinitasrotary.org
SUMMARY:Speaker:  Prashant Anilkumar
DESCRIPTION:Prashant Anilkumar is a TEDx speaker\, writer\, and consultant with over 13 years of leadership experience in the tech industry\, spanning product management and marketing at global organizations. He helps entrepreneurs\, business leaders\, and professionals apply practical frameworks to reframe challenges and spark innovation. His upcoming book bridges art\, business\, and AI to show how unconventional thinking can accelerate problem-solving. He is a San Diego resident and the parent of a rambunctious 2-year-old. \n\nHOME \n \nhttps://www.linkedin.com/in/prashant-anilkumar/ \n 
URL:https://coastalencinitasrotary.org/event/speaker-prashant-anilkumar/
LOCATION:Cicciotti’s Trattoria Italiana & Seafood\, 1933 San Elijo Ave\, Cardiff\, CA\, 92007\, United States
CATEGORIES:Club Lunch Meetings
ATTACH;FMTTYPE=image/jpeg:https://coastalencinitasrotary.org/wp-content/uploads/2025/10/IMG_6135.jpg
END:VEVENT
END:VCALENDAR