BEGIN:VCALENDAR
VERSION:2.0
PRODID:-//Coastal Encinitas Rotary Club - ECPv6.15.20//NONSGML v1.0//EN
CALSCALE:GREGORIAN
METHOD:PUBLISH
X-WR-CALNAME:Coastal Encinitas Rotary Club
X-ORIGINAL-URL:https://coastalencinitasrotary.org
X-WR-CALDESC:Events for Coastal Encinitas Rotary Club
REFRESH-INTERVAL;VALUE=DURATION:PT1H
X-Robots-Tag:noindex
X-PUBLISHED-TTL:PT1H
BEGIN:VTIMEZONE
TZID:America/Los_Angeles
BEGIN:DAYLIGHT
TZOFFSETFROM:-0800
TZOFFSETTO:-0700
TZNAME:PDT
DTSTART:20240310T100000
END:DAYLIGHT
BEGIN:STANDARD
TZOFFSETFROM:-0700
TZOFFSETTO:-0800
TZNAME:PST
DTSTART:20241103T090000
END:STANDARD
BEGIN:DAYLIGHT
TZOFFSETFROM:-0800
TZOFFSETTO:-0700
TZNAME:PDT
DTSTART:20250309T100000
END:DAYLIGHT
BEGIN:STANDARD
TZOFFSETFROM:-0700
TZOFFSETTO:-0800
TZNAME:PST
DTSTART:20251102T090000
END:STANDARD
BEGIN:DAYLIGHT
TZOFFSETFROM:-0800
TZOFFSETTO:-0700
TZNAME:PDT
DTSTART:20260308T100000
END:DAYLIGHT
BEGIN:STANDARD
TZOFFSETFROM:-0700
TZOFFSETTO:-0800
TZNAME:PST
DTSTART:20261101T090000
END:STANDARD
END:VTIMEZONE
BEGIN:VEVENT
DTSTART;TZID=America/Los_Angeles:20251104T121500
DTEND;TZID=America/Los_Angeles:20251104T133000
DTSTAMP:20260424T210923
CREATED:20251031T183741Z
LAST-MODIFIED:20251031T185240Z
UID:10000516-1762258500-1762263000@coastalencinitasrotary.org
SUMMARY:Speaker: Nina Ridgley: Home Builders Institute
DESCRIPTION:OUR HISTORY\n\n\n\n\nFor more than 50 years\, HBI has been training and educating America’s home construction workforce. HBI was founded by the National Association of Home Builders and funded by the Department of Labor to create free pre-apprenticeship training programs for different communities to learn homebuilding skills and end the labor shortage. Over the years we have continued to build out our programs offering and expanding our footprint in the construction industry. From innovative initiatives to strategic partnerships\, we remain committed to building careers and changing lives. \n\nNina will share how they prepare transitioning service members\, veterans\, and their families for meaningful careers in the building trades. We’ll also hear inspiring success stories and learn about employer partnerships happening right here in North County that are helping build strong career pathways for those who have served. \n(19) Facebook
URL:https://coastalencinitasrotary.org/event/speaker-nina-ridgley-home-builders-institute/
LOCATION:Cicciotti’s Trattoria Italiana & Seafood\, 1933 San Elijo Ave\, Cardiff\, CA\, 92007\, United States
CATEGORIES:Club Lunch Meetings
ATTACH;FMTTYPE=image/jpeg:https://coastalencinitasrotary.org/wp-content/uploads/2025/10/Headshot-1-1-e1761936746406.jpg
END:VEVENT
END:VCALENDAR