BEGIN:VCALENDAR
VERSION:2.0
PRODID:-//Coastal Encinitas Rotary Club - ECPv6.15.20//NONSGML v1.0//EN
CALSCALE:GREGORIAN
METHOD:PUBLISH
X-ORIGINAL-URL:https://coastalencinitasrotary.org
X-WR-CALDESC:Events for Coastal Encinitas Rotary Club
REFRESH-INTERVAL;VALUE=DURATION:PT1H
X-Robots-Tag:noindex
X-PUBLISHED-TTL:PT1H
BEGIN:VTIMEZONE
TZID:America/Los_Angeles
BEGIN:DAYLIGHT
TZOFFSETFROM:-0800
TZOFFSETTO:-0700
TZNAME:PDT
DTSTART:20240310T100000
END:DAYLIGHT
BEGIN:STANDARD
TZOFFSETFROM:-0700
TZOFFSETTO:-0800
TZNAME:PST
DTSTART:20241103T090000
END:STANDARD
BEGIN:DAYLIGHT
TZOFFSETFROM:-0800
TZOFFSETTO:-0700
TZNAME:PDT
DTSTART:20250309T100000
END:DAYLIGHT
BEGIN:STANDARD
TZOFFSETFROM:-0700
TZOFFSETTO:-0800
TZNAME:PST
DTSTART:20251102T090000
END:STANDARD
BEGIN:DAYLIGHT
TZOFFSETFROM:-0800
TZOFFSETTO:-0700
TZNAME:PDT
DTSTART:20260308T100000
END:DAYLIGHT
BEGIN:STANDARD
TZOFFSETFROM:-0700
TZOFFSETTO:-0800
TZNAME:PST
DTSTART:20261101T090000
END:STANDARD
END:VTIMEZONE
BEGIN:VEVENT
DTSTART;TZID=America/Los_Angeles:20251028T120000
DTEND;TZID=America/Los_Angeles:20251028T133000
DTSTAMP:20260424T211046
CREATED:20250913T180913Z
LAST-MODIFIED:20250919T211627Z
UID:10000504-1761652800-1761658200@coastalencinitasrotary.org
SUMMARY:Ignite Our Impact: The Coastal Encinitas Membership Mission Club Assembly
DESCRIPTION:Club Assembly: Strengthening Our Membership\nJoin us for a special Coastal Encinitas Rotary Club Assembly focused on membership — and be part of shaping our club’s future. This is a chance for all members to actively participate in an open discussion about how we can attract\, engage\, and retain members in a changing world. \nWe encourage everyone to come prepared with questions\, ideas\, and an open mind. \nWe’ll explore how our club can: \n\n\nBe more innovative\, flexible\, and relevant to today’s professionals \n\n\nAccommodate members’ work\, family\, and personal needs \n\n\nAdjust traditions\, fees\, meeting formats\, and projects to spark new interest \n\n\nAttract younger professionals by offering mentorship\, variety\, and meaningful local service \n\n\nYour voice matters — help us shape a welcoming and dynamic future for Coastal Encinitas Rotary.
URL:https://coastalencinitasrotary.org/event/ignite-our-impact-the-coastal-encinitas-membership-mission-club-assembly/
LOCATION:CA
CATEGORIES:Club Lunch Meetings
END:VEVENT
END:VCALENDAR