BEGIN:VCALENDAR
VERSION:2.0
PRODID:-//Coastal Encinitas Rotary Club - ECPv6.15.20//NONSGML v1.0//EN
CALSCALE:GREGORIAN
METHOD:PUBLISH
X-ORIGINAL-URL:https://coastalencinitasrotary.org
X-WR-CALDESC:Events for Coastal Encinitas Rotary Club
REFRESH-INTERVAL;VALUE=DURATION:PT1H
X-Robots-Tag:noindex
X-PUBLISHED-TTL:PT1H
BEGIN:VTIMEZONE
TZID:America/Los_Angeles
BEGIN:DAYLIGHT
TZOFFSETFROM:-0800
TZOFFSETTO:-0700
TZNAME:PDT
DTSTART:20240310T100000
END:DAYLIGHT
BEGIN:STANDARD
TZOFFSETFROM:-0700
TZOFFSETTO:-0800
TZNAME:PST
DTSTART:20241103T090000
END:STANDARD
BEGIN:DAYLIGHT
TZOFFSETFROM:-0800
TZOFFSETTO:-0700
TZNAME:PDT
DTSTART:20250309T100000
END:DAYLIGHT
BEGIN:STANDARD
TZOFFSETFROM:-0700
TZOFFSETTO:-0800
TZNAME:PST
DTSTART:20251102T090000
END:STANDARD
BEGIN:DAYLIGHT
TZOFFSETFROM:-0800
TZOFFSETTO:-0700
TZNAME:PDT
DTSTART:20260308T100000
END:DAYLIGHT
BEGIN:STANDARD
TZOFFSETFROM:-0700
TZOFFSETTO:-0800
TZNAME:PST
DTSTART:20261101T090000
END:STANDARD
END:VTIMEZONE
BEGIN:VEVENT
DTSTART;TZID=America/Los_Angeles:20250715T121500
DTEND;TZID=America/Los_Angeles:20250715T133000
DTSTAMP:20260425T041316
CREATED:20250605T145441Z
LAST-MODIFIED:20250605T145441Z
UID:10000418-1752581700-1752586200@coastalencinitasrotary.org
SUMMARY:Rotary in Your Pocket: Mobile Tour of your ECR Website
DESCRIPTION:Tap. View. Pay. Stay Connected. \nWith the TV set up and members using their phones\, I’ll walk everyone through key features of the Coastal Encinitas Rotary website\, focusing on how it can make Rotary more accessible\, especially on the go. \nHighlights will include: \n•Viewing the events calendar for upcoming speakers\, socials\, and district events \n•Paying dues and event fees right from your phone \n•Accessing club news\, photos\, and shared documents \n•Using the member directory \n•Promoting major events like our ACS sponsorship (with easy link sharing)
URL:https://coastalencinitasrotary.org/event/rotary-in-your-pocket-mobile-tour-of-your-ecr-website/
LOCATION:Cicciotti’s Trattoria Italiana & Seafood\, 1933 San Elijo Ave\, Cardiff\, CA\, 92007\, United States
CATEGORIES:Club Lunch Meetings
ATTACH;FMTTYPE=image/png:https://coastalencinitasrotary.org/wp-content/uploads/2025/06/IMG_4259-scaled-e1749145436477.png
END:VEVENT
END:VCALENDAR