BEGIN:VCALENDAR
VERSION:2.0
PRODID:-//Coastal Encinitas Rotary Club - ECPv6.15.20//NONSGML v1.0//EN
CALSCALE:GREGORIAN
METHOD:PUBLISH
X-WR-CALNAME:Coastal Encinitas Rotary Club
X-ORIGINAL-URL:https://coastalencinitasrotary.org
X-WR-CALDESC:Events for Coastal Encinitas Rotary Club
REFRESH-INTERVAL;VALUE=DURATION:PT1H
X-Robots-Tag:noindex
X-PUBLISHED-TTL:PT1H
BEGIN:VTIMEZONE
TZID:America/Los_Angeles
BEGIN:DAYLIGHT
TZOFFSETFROM:-0800
TZOFFSETTO:-0700
TZNAME:PDT
DTSTART:20240310T100000
END:DAYLIGHT
BEGIN:STANDARD
TZOFFSETFROM:-0700
TZOFFSETTO:-0800
TZNAME:PST
DTSTART:20241103T090000
END:STANDARD
BEGIN:DAYLIGHT
TZOFFSETFROM:-0800
TZOFFSETTO:-0700
TZNAME:PDT
DTSTART:20250309T100000
END:DAYLIGHT
BEGIN:STANDARD
TZOFFSETFROM:-0700
TZOFFSETTO:-0800
TZNAME:PST
DTSTART:20251102T090000
END:STANDARD
BEGIN:DAYLIGHT
TZOFFSETFROM:-0800
TZOFFSETTO:-0700
TZNAME:PDT
DTSTART:20260308T100000
END:DAYLIGHT
BEGIN:STANDARD
TZOFFSETFROM:-0700
TZOFFSETTO:-0800
TZNAME:PST
DTSTART:20261101T090000
END:STANDARD
END:VTIMEZONE
BEGIN:VEVENT
DTSTART;TZID=America/Los_Angeles:20250408T121500
DTEND;TZID=America/Los_Angeles:20250408T133000
DTSTAMP:20260425T090657
CREATED:20250222T211112Z
LAST-MODIFIED:20250404T012648Z
UID:10000038-1744114500-1744119000@coastalencinitasrotary.org
SUMMARY:Jennifer Coburn\, Author The Girls of the Glimmer Factory
DESCRIPTION:Jennifer Coburn is the author of The Girls of the Glimmer Factory and Cradles of the Reich\,  a historical novel about the strength of women’s friendship and the connections that can be forged during even the most harrowing of times. \n           \n 
URL:https://coastalencinitasrotary.org/event/club-lunch-meeting-20/
LOCATION:Cicciotti’s Trattoria Italiana & Seafood\, 1933 San Elijo Ave\, Cardiff\, CA\, 92007\, United States
CATEGORIES:Club Lunch Meetings
ATTACH;FMTTYPE=image/jpeg:https://coastalencinitasrotary.org/wp-content/uploads/2025/02/Jennifer-Coburn.jpeg
END:VEVENT
END:VCALENDAR