BEGIN:VCALENDAR
VERSION:2.0
PRODID:-//Coastal Encinitas Rotary Club - ECPv6.15.20//NONSGML v1.0//EN
CALSCALE:GREGORIAN
METHOD:PUBLISH
X-WR-CALNAME:Coastal Encinitas Rotary Club
X-ORIGINAL-URL:https://coastalencinitasrotary.org
X-WR-CALDESC:Events for Coastal Encinitas Rotary Club
REFRESH-INTERVAL;VALUE=DURATION:PT1H
X-Robots-Tag:noindex
X-PUBLISHED-TTL:PT1H
BEGIN:VTIMEZONE
TZID:America/Los_Angeles
BEGIN:DAYLIGHT
TZOFFSETFROM:-0800
TZOFFSETTO:-0700
TZNAME:PDT
DTSTART:20240310T100000
END:DAYLIGHT
BEGIN:STANDARD
TZOFFSETFROM:-0700
TZOFFSETTO:-0800
TZNAME:PST
DTSTART:20241103T090000
END:STANDARD
BEGIN:DAYLIGHT
TZOFFSETFROM:-0800
TZOFFSETTO:-0700
TZNAME:PDT
DTSTART:20250309T100000
END:DAYLIGHT
BEGIN:STANDARD
TZOFFSETFROM:-0700
TZOFFSETTO:-0800
TZNAME:PST
DTSTART:20251102T090000
END:STANDARD
BEGIN:DAYLIGHT
TZOFFSETFROM:-0800
TZOFFSETTO:-0700
TZNAME:PDT
DTSTART:20260308T100000
END:DAYLIGHT
BEGIN:STANDARD
TZOFFSETFROM:-0700
TZOFFSETTO:-0800
TZNAME:PST
DTSTART:20261101T090000
END:STANDARD
END:VTIMEZONE
BEGIN:VEVENT
DTSTART;TZID=America/Los_Angeles:20250121T121500
DTEND;TZID=America/Los_Angeles:20250121T133000
DTSTAMP:20260425T134735
CREATED:20241122T031538Z
LAST-MODIFIED:20250113T234627Z
UID:10000027-1737461700-1737466200@coastalencinitasrotary.org
SUMMARY:8 Slides that Explain the World with Bob  Hemphill Energy Experts
DESCRIPTION:Our own members Bob H and Leah B \n\n\n\n\nThey have held top positions in the energy business for decades. Their backgrounds include building hydroelectric\, coal\, gas\, and solar power plants all over the world.\nThey formed a nonprofit and have spoken all over the Country on the efficiency and benefits of Solar power. We are blessed to have them present to our club.  Do not miss this unique opportunity!
URL:https://coastalencinitasrotary.org/event/club-lunch-meeting-9/
LOCATION:Cicciotti’s Trattoria Italiana & Seafood\, 1933 San Elijo Ave\, Cardiff\, CA\, 92007\, United States
CATEGORIES:Club Lunch Meetings
END:VEVENT
END:VCALENDAR