BEGIN:VCALENDAR
VERSION:2.0
PRODID:-//Coastal Encinitas Rotary Club - ECPv6.15.20//NONSGML v1.0//EN
CALSCALE:GREGORIAN
METHOD:PUBLISH
X-ORIGINAL-URL:https://coastalencinitasrotary.org
X-WR-CALDESC:Events for Coastal Encinitas Rotary Club
REFRESH-INTERVAL;VALUE=DURATION:PT1H
X-Robots-Tag:noindex
X-PUBLISHED-TTL:PT1H
BEGIN:VTIMEZONE
TZID:America/Los_Angeles
BEGIN:DAYLIGHT
TZOFFSETFROM:-0800
TZOFFSETTO:-0700
TZNAME:PDT
DTSTART:20230312T100000
END:DAYLIGHT
BEGIN:STANDARD
TZOFFSETFROM:-0700
TZOFFSETTO:-0800
TZNAME:PST
DTSTART:20231105T090000
END:STANDARD
BEGIN:DAYLIGHT
TZOFFSETFROM:-0800
TZOFFSETTO:-0700
TZNAME:PDT
DTSTART:20240310T100000
END:DAYLIGHT
BEGIN:STANDARD
TZOFFSETFROM:-0700
TZOFFSETTO:-0800
TZNAME:PST
DTSTART:20241103T090000
END:STANDARD
BEGIN:DAYLIGHT
TZOFFSETFROM:-0800
TZOFFSETTO:-0700
TZNAME:PDT
DTSTART:20250309T100000
END:DAYLIGHT
BEGIN:STANDARD
TZOFFSETFROM:-0700
TZOFFSETTO:-0800
TZNAME:PST
DTSTART:20251102T090000
END:STANDARD
END:VTIMEZONE
BEGIN:VEVENT
DTSTART;TZID=America/Los_Angeles:20241015T120000
DTEND;TZID=America/Los_Angeles:20241015T133000
DTSTAMP:20260425T185008
CREATED:20241004T202700Z
LAST-MODIFIED:20241004T202700Z
UID:10000341-1728993600-1728999000@coastalencinitasrotary.org
SUMMARY:Special Encinitas Candidate Forum- Please RSVP to Vembra
DESCRIPTION:
URL:https://coastalencinitasrotary.org/event/special-encinitas-candidate-forum-please-rsvp-to-vembra/2024-10-15/
LOCATION:CA
CATEGORIES:Club Lunch Meetings
END:VEVENT
BEGIN:VEVENT
DTSTART;TZID=America/Los_Angeles:20241015T171500
DTEND;TZID=America/Los_Angeles:20241015T190000
DTSTAMP:20260425T185008
CREATED:20240925T233514Z
LAST-MODIFIED:20240925T233525Z
UID:10000338-1729012500-1729018800@coastalencinitasrotary.org
SUMMARY:Purse Bingo Kick-off Meeting At Gretchen's
DESCRIPTION:
URL:https://coastalencinitasrotary.org/event/purse-bingo-kick-off-meeting-at-gretchens/
LOCATION:1420 Ravean Court\, Encinitas\, 1420 Ravean Ct\, Enciitas\, Ca\, 92024
CATEGORIES:Fundraiser
END:VEVENT
END:VCALENDAR